BEGIN:VCALENDAR
VERSION:2.0
PRODID:Imitheme.com 
BEGIN:VEVENT
UID:20260425T15330724119090
DTSTAMP;TZID=UTC:2026-04-25 15:33:07
DTSTART;TZID=America/Los_Angeles:20260425T153307
DTEND;TZID=America/Los_Angeles:20260425T153307
SUMMARY:Istentisztelet
LOCATION:
DESCRIPTION:
URL:https://pecsibaptista.hu/eventer/istentisztelet-2/
END:VEVENT
END:VCALENDAR
